Workbook

Sheet 第８号様式（交付決定）
A2: 【第8号様式別紙】事業費経費別明細 | H2: （単位：円）
A4: 申請コース | F4: 助成率
F5: 交付決定額（単位：円）
A6: 【総事業費】 | B6: =$F$54 -> 0
A7: 【助成対象経費】 | B7: =$G$54 -> 0
A8: 【助成金の予定額】 | C8: 申請対象経費総合計×助成率※（千円未満切捨）
C9: ※助成率：江戸の伝統文化コースは４分の３、伝統文化コースは３分の２
A10: ■資金調達実績（単位:円）
A11: 自己資金（①）
A12: 借入金（②）
A13: その他（③）
A14: 合計（①＋②＋③） | B14: =SUM(B11:B13) -> 0
A16: ■収益（単位:円）
A17: 事業の実施に伴う収入（①）
A18: 自主財源分（②）
A19: 収益（①－②） | B19: =B17-B18 -> 0
A21: ■支出詳細 | F21: ※自動計算 （単位×数量）
A22: 支払予定先 （契約予定先） | B22: 経費区分 （リストから選択） | C22: 経費名称 | D22: 単 価 （単位：円） | E22: 数量 | F22: 総額 （単位：円） | G22: 内 助成対象経費 （単位：円） | H22: 備 考
F24: =D24*E24 -> 0
F25: =D25*E25 -> 0
F26: =D26*E26 -> 0
F27: =D27*E27 -> 0
F28: =D28*E28 -> 0
F29: =D29*E29 -> 0
F30: =D30*E30 -> 0
F31: =D31*E31 -> 0
F32: =D32*E32 -> 0
F33: =D33*E33 -> 0
F34: =D34*E34 -> 0
F35: =D35*E35 -> 0
... F53: =D53*E53 -> 0
A54: 合計 | F54: =SUM(F24:F53) -> 0 | G54: =SUM(G24:G53) -> 0
F55: 【総事業費】 | G55: 【助成対象経費】
A57: ※参加費等収入ある場合は下記へ記入すること。
A58: 収入項目名： | F58: 収入額：
A59: ＊記入欄が足りない場合は、適宜追加して記入すること。

Sheet 【記入例】参考
A1: 【事業計画書別紙】事業費経費別明細
A3: 申請コース | B3: 江戸の伝統文化コース
A5: 【総事業費】 | B5: =$F$66 -> 2574000 | C5: ※自動計算
A6: 【助成対象経費】 | B6: =$G$66 -> 2240000 | C6: ※自動計算
A7: 【助成金交付申請額】 | B7: =IFERROR( MIN(ROUNDDOWN(B6*#REF!,-3),#REF!), 0) -> 0 | C7: ※自動計算（千円未満の端数切捨て）
A9: ■資金調達計画（単位:円）
A10: 自己資金（①） | B10: 4609000
A11: 借入金（②） | B11: 0
A12: その他（③） | B12: 0
A13: 合計（①＋②＋③） | B13: =SUM(B10:B12) -> 4609000 | C13: ※自動計算
A15: ■収益（単位:円）
A16: 事業の実施に伴う収入（①） | B16: =G69 -> 0 | C16: （＝【収入額合計】）
A17: 自主財源分（②） | B17: =$B$5-$B$7 -> 2574000 | C17: （＝【総事業費】－【助成金交付申請額】）
A18: 収益（①－②） | B18: =B16-B17 -> -2574000 | C18: =IF(B18<=0,"※自動計算","【警告】収益が発生しています（交付確定額は収益を控除して算出します）") -> ※自動計算
A20: ■支出詳細 | F20: ※自動計算 (単価×数量) | I20: ※印刷不要
A21: 支払予定先 （契約予定先） | B21: 経費区分 （リストから選択） | C21: 経費名称 | D21: 単価 （単位:円） | E21: 数量 | F21: 総額 （単位:円） | G21: 内 助成対象経費 （単位:円） | H21: 備 考 | I21: 経費種類取得用
A22: △△株式会社 | B22: 会場・設営及び運営に要する経費 | C22: 会場費 | D22: 500000 | E22: 1 | F22: =テーブル4[[#This Row],[単価 （単位:円）]]*テーブル4[[#This Row],[数量]] -> 500000 | G22: 500000 | H22: 会場費２日分 | I22: =IFERROR(VLOOKUP($B22, [1]マスタ!G:H, 2, FALSE), "0") -> 0
B23: 効果測定に係る経費 | C23: アンケート及び人流データ分析 | D23: 500000 | E23: 1 | F23: =テーブル4[[#This Row],[単価 （単位:円）]]*テーブル4[[#This Row],[数量]] -> 500000 | G23: 500000 | I23: =IFERROR(VLOOKUP($B23, [1]マスタ!G:H, 2, FALSE), "0") -> 1
B24: 消費税 | D24: 100000 | E24: 1 | F24: =テーブル4[[#This Row],[単価 （単位:円）]]*テーブル4[[#This Row],[数量]] -> 100000 | I24: =IFERROR(VLOOKUP($B24, [1]マスタ!G:H, 2, FALSE), "0") -> 2
I25: =IFERROR(VLOOKUP($B25, [1]マスタ!G:H, 2, FALSE), "0") -> 0
A26: 株式会社◇◇ | B26: 広告・宣伝費 | C26: SNS広告配信 | D26: 500000 | E26: 2 | F26: =テーブル4[[#This Row],[単価 （単位:円）]]*テーブル4[[#This Row],[数量]] -> 1000000 | G26: 900000 | I26: =IFERROR(VLOOKUP($B26, [1]マスタ!G:H, 2, FALSE), "0") -> 0
B27: 消費税 | D27: 100000 | E27: 1 | F27: =テーブル4[[#This Row],[単価 （単位:円）]]*テーブル4[[#This Row],[数量]] -> 100000 | I27: =IFERROR(VLOOKUP($B27, [1]マスタ!G:H, 2, FALSE), "0") -> 2
I28: =IFERROR(VLOOKUP($B28, [1]マスタ!G:H, 2, FALSE), "0") -> 0
A29: 株式会社×× | B29: ガイド人材の育成に係る経費 | C29: ガイド向け教材費 | D29: 1500 | E29: 200 | F29: =テーブル4[[#This Row],[単価 （単位:円）]]*テーブル4[[#This Row],[数量]] -> 300000 | G29: 300000 | I29: =IFERROR(VLOOKUP($B29, [1]マスタ!G:H, 2, FALSE), "0") -> 1
B30: 消耗品購入経費 | C30: ペン | D30: 200 | E30: 200 | F30: =テーブル4[[#This Row],[単価 （単位:円）]]*テーブル4[[#This Row],[数量]] -> 40000 | G30: 40000 | I30: =IFERROR(VLOOKUP($B30, [1]マスタ!G:H, 2, FALSE), "0") -> 0
B31: 消費税 | D31: 34000 | E31: 1 | F31: =テーブル4[[#This Row],[単価 （単位:円）]]*テーブル4[[#This Row],[数量]] -> 34000 | I31: =IFERROR(VLOOKUP($B31, [1]マスタ!G:H, 2, FALSE), "0") -> 2
I32: =IFERROR(VLOOKUP($B32, [1]マスタ!G:H, 2, FALSE), "0") -> 0
F33: =テーブル4[[#This Row],[単価 （単位:円）]]*テーブル4[[#This Row],[数量]] -> 0 | I33: =IFERROR(VLOOKUP($B33, [1]マスタ!G:H, 2, FALSE), "0") -> 0
F34: =テーブル4[[#This Row],[単価 （単位:円）]]*テーブル4[[#This Row],[数量]] -> 0 | I34: =IFERROR(VLOOKUP($B34, [1]マスタ!G:H, 2, FALSE), "0") -> 0
F35: =テーブル4[[#This Row],[単価 （単位:円）]]*テーブル4[[#This Row],[数量]] -> 0 | I35: =IFERROR(VLOOKUP($B35, [1]マスタ!G:H, 2, FALSE), "0") -> 0
F36: =テーブル4[[#This Row],[単価 （単位:円）]]*テーブル4[[#This Row],[数量]] -> 0 | I36: =IFERROR(VLOOKUP($B36, [1]マスタ!G:H, 2, FALSE), "0") -> 0
F37: =テーブル4[[#This Row],[単価 （単位:円）]]*テーブル4[[#This Row],[数量]] -> 0 | I37: =IFERROR(VLOOKUP($B37, [1]マスタ!G:H, 2, FALSE), "0") -> 0
F38: =テーブル4[[#This Row],[単価 （単位:円）]]*テーブル4[[#This Row],[数量]] -> 0 | I38: =IFERROR(VLOOKUP($B38, [1]マスタ!G:H, 2, FALSE), "0") -> 0
F39: =テーブル4[[#This Row],[単価 （単位:円）]]*テーブル4[[#This Row],[数量]] -> 0 | I39: =IFERROR(VLOOKUP($B39, [1]マスタ!G:H, 2, FALSE), "0") -> 0
F40: =テーブル4[[#This Row],[単価 （単位:円）]]*テーブル4[[#This Row],[数量]] -> 0 | I40: =IFERROR(VLOOKUP($B40, [1]マスタ!G:H, 2, FALSE), "0") -> 0
F41: =テーブル4[[#This Row],[単価 （単位:円）]]*テーブル4[[#This Row],[数量]] -> 0 | I41: =IFERROR(VLOOKUP($B41, [1]マスタ!G:H, 2, FALSE), "0") -> 0
F42: =テーブル4[[#This Row],[単価 （単位:円）]]*テーブル4[[#This Row],[数量]] -> 0 | I42: =IFERROR(VLOOKUP($B42, [1]マスタ!G:H, 2, FALSE), "0") -> 0
F43: =テーブル4[[#This Row],[単価 （単位:円）]]*テーブル4[[#This Row],[数量]] -> 0 | G43: =IF(I43=1, F43, IF(I43=2, "―", IF(AND(I43="0", OR(D43<>"", E43<>"")), "経費区分未選択", "0"))) -> 0 | I43: =IFERROR(VLOOKUP($B43, [1]マスタ!G:H, 2, FALSE), "0") -> 0
F44: =テーブル4[[#This Row],[単価 （単位:円）]]*テーブル4[[#This Row],[数量]] -> 0 | G44: =IF(I44=1, F44, IF(I44=2, "―", IF(AND(I44="0", OR(D44<>"", E44<>"")), "経費区分未選択", "0"))) -> 0 | I44: =IFERROR(VLOOKUP($B44, [1]マスタ!G:H, 2, FALSE), "0") -> 0
F45: =テーブル4[[#This Row],[単価 （単位:円）]]*テーブル4[[#This Row],[数量]] -> 0 | G45: =IF(I45=1, F45, IF(I45=2, "―", IF(AND(I45="0", OR(D45<>"", E45<>"")), "経費区分未選択", "0"))) -> 0 | I45: =IFERROR(VLOOKUP($B45, [1]マスタ!G:H, 2, FALSE), "0") -> 0
...

Sheet 凡例
A2: ■申請コース
A3: 伝統文化コース
A4: 江戸の伝統文化コース
A6: ■経費項目
A7: 会場・設営及び運営に要する経費
A8: 広告・宣伝費
A9: 情報発信ツールの制作に係る経費
A10: ガイド人材の育成に係る経費
A11: 効果測定に係る経費
A12: 消耗品購入経費
A13: その他事業実施のために直接必要な経費
A14: 区分Aのみ ツアーの実施に係る経費
... A16: 区分Cのみ イベントの出演者への謝金
